BEGIN:VCALENDAR
VERSION:2.0
PRODID:-//PsychologistAggregator//SpecialistEvents//RU
CALSCALE:GREGORIAN
BEGIN:VEVENT
UID:specialist-event-3@www.cherta.pro
DTSTAMP:20260423T131001Z
DTSTART:20260514T000000Z
DTEND:20260514T020000Z
SUMMARY:Комплексное психологическое сопровождение клиента с созависимым пов
 едением
DESCRIPTION:Созависимость — это не только проблема отдельного человека\, но
  и всей семейной системы. Курс формирует компетенции для сопровождения семе
 й\, сталкивающихся с зависимостью от алкоголя\, наркотиков или других форм 
 аддиктивного поведения. Обучение ориентировано на практическое применение: 
 вы освоите методы психодиагностики\, консультирования\, психокоррекции и пр
 офилактики рецидивов\, научитесь работать с индивидуальными случаями и груп
 пами поддержки. Цели программы Подготовка специалистов для оказания професс
 иональной помощи клиентам с созависимым поведением. Формирование навыков ко
 нсультирования\, сопровождения и психокоррекции. Профилактика и снижение ри
 сков рецидива созависимости. Развитие умений работы с семьями и социальными
  группами\, оказавшимися в трудной жизненной ситуации.   Структура и содерж
 ание курса: 1. Психология зависимого поведения Проблема формирования аддикт
 ивного поведения Психическая зависимость при наркомании и алкоголизме 2. Те
 оретические концепты созависимого поведения Определение и характеристики со
 зависимости Семейные дисфункции и их влияние 3. Консультирование\, психокор
 рекция и профилактика пациентов с созависимым поведением Консультативное со
 провождение созависимых клиентов Психокоррекционная работа при созависимост
 и и зависимости от алкоголя и наркотиков Профилактика рецидива созависимост
 и Итого 72 часа\n\nhttps://www.cherta.pro/meropriyatie/kompleksnoe-psiholog
 icheskoe-soprovozhdenie-klienta-s-sozavisimym-povedeniem
LOCATION:Онлайн
URL:https://www.cherta.pro/meropriyatie/kompleksnoe-psihologicheskoe-soprovozhdenie-klienta-s-sozavisimym-povedeniem
END:VEVENT
END:VCALENDAR
